BEGIN:VCALENDAR
PRODID:-//eluceo/ical//2.0/EN
VERSION:2.0
CALSCALE:GREGORIAN
BEGIN:VEVENT
UID:230e3678fd3092c133470a3147811a98
DTSTAMP:20260422T191553Z
SUMMARY:[männliche C-Jugend LK 2 2014/15] CVJM Kirchentellinsfurt  - SG M
 össingen/Belsen 
URL:https://www.eichenkreuzliga.de/handball/game/id/2192
DTSTART:20141130T143000
DTEND:20141130T153000
LOCATION:Sporthalle\, 72138 Kirchentellinsfurt
END:VEVENT
BEGIN:VEVENT
UID:4f82c06c21e9d5a060760e9dc711941e
DTSTAMP:20260422T191553Z
SUMMARY:[Männer LK 3 2014/15] CVJM Kirchentellinsfurt  - SG Bonlanden Bern
 hausen 1c
URL:https://www.eichenkreuzliga.de/handball/game/id/2231
DTSTART:20141130T173000
DTEND:20141130T183000
LOCATION:Sporthalle\, 72138 Kirchentellinsfurt
END:VEVENT
BEGIN:VEVENT
UID:e9b66e9046cfaa42c26fa5657996feec
DTSTAMP:20260422T191553Z
SUMMARY:[weibliche C-Jugend Vorrunde 2014/15] CVJM Kirchentellinsfurt  - CV
 JM Möglingen 
URL:https://www.eichenkreuzliga.de/handball/game/id/2264
DTSTART:20141130T130000
DTEND:20141130T140000
LOCATION:Sporthalle\, 72138 Kirchentellinsfurt
END:VEVENT
END:VCALENDAR
