BEGIN:VCALENDAR
PRODID:-//eluceo/ical//2.0/EN
VERSION:2.0
CALSCALE:GREGORIAN
BEGIN:VEVENT
UID:3a27444f8e3678434697a3475225c14c
DTSTAMP:20260420T061630Z
SUMMARY:[weibliche A-Jugend Vorrunde 2014/15] CVJM Kusterdingen  - CVJM  Wa
 lddorfhäslach 
URL:https://www.eichenkreuzliga.de/handball/game/id/2026
DTSTART:20141213T150000
DTEND:20141213T160000
LOCATION:Härtensporthalle\, 72127 Kusterdingen
END:VEVENT
BEGIN:VEVENT
UID:69861d8bff6a061a82160fbaedf61108
DTSTAMP:20260420T061630Z
SUMMARY:[männliche B-Jugend LK 1 2014/15] SG Kusterdingen/Kirchentellinsfu
 rt  - CVJM Möglingen 1
URL:https://www.eichenkreuzliga.de/handball/game/id/2127
DTSTART:20141213T180000
DTEND:20141213T190000
LOCATION:Härtensporthalle\, 72127 Kusterdingen
END:VEVENT
END:VCALENDAR
