BEGIN:VCALENDAR
PRODID:-//eluceo/ical//2.0/EN
VERSION:2.0
CALSCALE:GREGORIAN
BEGIN:VEVENT
UID:e45d05fcdce3e76867ca3b4eb10879ad
DTSTAMP:20260422T191552Z
SUMMARY:[männliche E-Jugend Gruppe 1 2014/15] EK Bernhausen 1 - EK Köngen
  
URL:https://www.eichenkreuzliga.de/handball/game/id/1679
DTSTART:20150110T123000
DTEND:20150110T133000
LOCATION:Elisabeth-Selbert-Gymnasium Halle\, 70794 Bernhausen
END:VEVENT
BEGIN:VEVENT
UID:beae0e4340f581612752fe35baad4050
DTSTAMP:20260422T191552Z
SUMMARY:[männliche E-Jugend Gruppe 1 2014/15] CVJM Enzweihingen  - EK Höf
 ingen 
URL:https://www.eichenkreuzliga.de/handball/game/id/1680
DTSTART:20150110T131000
DTEND:20150110T141000
LOCATION:Elisabeth-Selbert-Gymnasium Halle\, 70794 Bernhausen
END:VEVENT
BEGIN:VEVENT
UID:ff886b604ccc63cc52fcbd26d48e330b
DTSTAMP:20260422T191552Z
SUMMARY:[männliche E-Jugend Gruppe 1 2014/15] EK Köngen  - CVJM Enzweihin
 gen 
URL:https://www.eichenkreuzliga.de/handball/game/id/1682
DTSTART:20150110T140000
DTEND:20150110T150000
LOCATION:Elisabeth-Selbert-Gymnasium Halle\, 70794 Bernhausen
END:VEVENT
BEGIN:VEVENT
UID:7254b0e181370d42c676d30ffbc7cdc9
DTSTAMP:20260422T191552Z
SUMMARY:[männliche E-Jugend Gruppe 1 2014/15] EK Bernhausen 1 - EK Höfing
 en 
URL:https://www.eichenkreuzliga.de/handball/game/id/1683
DTSTART:20150110T144000
DTEND:20150110T154000
LOCATION:Elisabeth-Selbert-Gymnasium Halle\, 70794 Bernhausen
END:VEVENT
BEGIN:VEVENT
UID:e3aa92c740b7a0792c95fbab67bb117a
DTSTAMP:20260422T191552Z
SUMMARY:[Männer Landesliga 2014/15] EK Bernhausen  - CVJM SG Mössingen/Be
 lsen 
URL:https://www.eichenkreuzliga.de/handball/game/id/1764
DTSTART:20150110T200000
DTEND:20150110T210000
LOCATION:Elisabeth-Selbert-Gymnasium Halle\, 70794 Bernhausen
END:VEVENT
BEGIN:VEVENT
UID:8de92ae72879ed534144e2c33d54e9d4
DTSTAMP:20260422T191552Z
SUMMARY:[Männer LK 2 2014/15] EK Bernhausen / Bonlanden - CVJM Untertürkh
 eim 
URL:https://www.eichenkreuzliga.de/handball/game/id/2022
DTSTART:20150110T183000
DTEND:20150110T193000
LOCATION:Elisabeth-Selbert-Gymnasium Halle\, 70794 Bernhausen
END:VEVENT
BEGIN:VEVENT
UID:028c2211ea80b386cad6e47ae68da21a
DTSTAMP:20260422T191552Z
SUMMARY:[männliche A-Jugend LK 1 2014/15] EK Bernhausen  - CVJM  Walddorfh
 äslach 
URL:https://www.eichenkreuzliga.de/handball/game/id/2078
DTSTART:20150110T170000
DTEND:20150110T180000
LOCATION:Elisabeth-Selbert-Gymnasium Halle\, 70794 Bernhausen
END:VEVENT
BEGIN:VEVENT
UID:1c23e452bb219bac956fec2dba5e41dc
DTSTAMP:20260422T191552Z
SUMMARY:[weibliche C-Jugend Vorrunde 2014/15] EK Bernhausen  - CVJM Möglin
 gen 
URL:https://www.eichenkreuzliga.de/handball/game/id/2248
DTSTART:20150110T153000
DTEND:20150110T163000
LOCATION:Elisabeth-Selbert-Gymnasium Halle\, 70794 Bernhausen
END:VEVENT
BEGIN:VEVENT
UID:0858c3d111a69b959b9c902a7cbe08c1
DTSTAMP:20260422T191552Z
SUMMARY:[ ]   -  
URL:https://www.eichenkreuzliga.de/handball/game/id/2277
DTSTART:20150110T134500
DTEND:20150110T144500
LOCATION:Elisabeth-Selbert-Gymnasium Halle\, 70794 Bernhausen
END:VEVENT
END:VCALENDAR
