BEGIN:VCALENDAR
PRODID:-//eluceo/ical//2.0/EN
VERSION:2.0
CALSCALE:GREGORIAN
BEGIN:VEVENT
UID:2ee81404956959c9dcd2e95e42e05028
DTSTAMP:20260422T203915Z
SUMMARY:[Männer Landesliga 2014/15] CVJM  Walddorfhäslach  - EK Höfingen
  
URL:https://www.eichenkreuzliga.de/handball/game/id/1746
DTSTART:20150124T193000
DTEND:20150124T203000
LOCATION:Ballspielhalle\, 72141 Walddorfhäslach
END:VEVENT
BEGIN:VEVENT
UID:52535f74f93ed65bc5f65f433e1ddc24
DTSTAMP:20260422T203915Z
SUMMARY:[weibliche D-Jugend Vorrunde 2014/15] CVJM  Walddorfhäslach  - CVJ
 M HB Dußlingen-Gomaringen 1
URL:https://www.eichenkreuzliga.de/handball/game/id/1903
DTSTART:20150124T130000
DTEND:20150124T140000
LOCATION:Ballspielhalle\, 72141 Walddorfhäslach
END:VEVENT
BEGIN:VEVENT
UID:6c7ca1b41e900c085cafd1dd6bbb420b
DTSTAMP:20260422T203915Z
SUMMARY:[weibliche D-Jugend Vorrunde 2014/15] CVJM Hülben  - EK Bernhausen
  
URL:https://www.eichenkreuzliga.de/handball/game/id/1904
DTSTART:20150124T134000
DTEND:20150124T144000
LOCATION:Ballspielhalle\, 72141 Walddorfhäslach
END:VEVENT
BEGIN:VEVENT
UID:dbac60a7e54a11360036ae92b506d6b2
DTSTAMP:20260422T203915Z
SUMMARY:[ ]   -  
URL:https://www.eichenkreuzliga.de/handball/game/id/1905
DTSTART:20150124T141500
DTEND:20150124T151500
LOCATION:Ballspielhalle\, 72141 Walddorfhäslach
END:VEVENT
BEGIN:VEVENT
UID:95bf4bc1e005519ea98154518efa5d2b
DTSTAMP:20260422T203915Z
SUMMARY:[weibliche D-Jugend Vorrunde 2014/15] EK Bernhausen  - CVJM HB Duß
 lingen-Gomaringen 1
URL:https://www.eichenkreuzliga.de/handball/game/id/1906
DTSTART:20150124T143000
DTEND:20150124T153000
LOCATION:Ballspielhalle\, 72141 Walddorfhäslach
END:VEVENT
BEGIN:VEVENT
UID:6914f75c6f8c2a912cccb85edd5509c9
DTSTAMP:20260422T203915Z
SUMMARY:[weibliche D-Jugend Vorrunde 2014/15] CVJM Hülben  - CVJM  Walddor
 fhäslach 
URL:https://www.eichenkreuzliga.de/handball/game/id/1907
DTSTART:20150124T151000
DTEND:20150124T161000
LOCATION:Ballspielhalle\, 72141 Walddorfhäslach
END:VEVENT
BEGIN:VEVENT
UID:e177bda4f77ccdd313464a414ca473cc
DTSTAMP:20260422T203915Z
SUMMARY:[weibliche A-Jugend Vorrunde 2014/15] CVJM  Walddorfhäslach  - CVJ
 M Untertürkheim 
URL:https://www.eichenkreuzliga.de/handball/game/id/2046
DTSTART:20150124T174000
DTEND:20150124T184000
LOCATION:Ballspielhalle\, 72141 Walddorfhäslach
END:VEVENT
BEGIN:VEVENT
UID:f978459635d0d2b96d91ebf629cf6227
DTSTAMP:20260422T203915Z
SUMMARY:[weibliche C-Jugend Vorrunde 2014/15] CVJM  Walddorfhäslach  - CVJ
 M HB Dußlingen-Gomaringen 1
URL:https://www.eichenkreuzliga.de/handball/game/id/2268
DTSTART:20150124T161000
DTEND:20150124T171000
LOCATION:Ballspielhalle\, 72141 Walddorfhäslach
END:VEVENT
END:VCALENDAR
