BEGIN:VCALENDAR
PRODID:-//eluceo/ical//2.0/EN
VERSION:2.0
CALSCALE:GREGORIAN
BEGIN:VEVENT
UID:50432c436f5259890cf3043b17357448
DTSTAMP:20260420T194726Z
SUMMARY:[Männer Landesliga 2014/15] CVJM  Walddorfhäslach  - CVJM Möglin
 gen 
URL:https://www.eichenkreuzliga.de/handball/game/id/1756
DTSTART:20150131T193000
DTEND:20150131T203000
LOCATION:Ballspielhalle\, 72141 Walddorfhäslach
END:VEVENT
BEGIN:VEVENT
UID:8c4b12280cc2308068da75f330442dd2
DTSTAMP:20260420T194726Z
SUMMARY:[männliche A-Jugend LK 1 2014/15] CVJM  Walddorfhäslach  - CVJM M
 öglingen 
URL:https://www.eichenkreuzliga.de/handball/game/id/2095
DTSTART:20150131T174500
DTEND:20150131T184500
LOCATION:Ballspielhalle\, 72141 Walddorfhäslach
END:VEVENT
BEGIN:VEVENT
UID:c1157b374b7d95dda236d58576a68177
DTSTAMP:20260420T194726Z
SUMMARY:[männliche B-Jugend LK 1 2014/15] CVJM  Walddorfhäslach  - CVJM M
 öglingen 2
URL:https://www.eichenkreuzliga.de/handball/game/id/2133
DTSTART:20150131T160000
DTEND:20150131T170000
LOCATION:Ballspielhalle\, 72141 Walddorfhäslach
END:VEVENT
BEGIN:VEVENT
UID:bdcbad53f3709c42649455875b6262d9
DTSTAMP:20260420T194726Z
SUMMARY:[weibliche C-Jugend Vorrunde 2014/15] CVJM  Walddorfhäslach  - EK 
 Bernhausen 
URL:https://www.eichenkreuzliga.de/handball/game/id/2267
DTSTART:20150131T143000
DTEND:20150131T153000
LOCATION:Ballspielhalle\, 72141 Walddorfhäslach
END:VEVENT
END:VCALENDAR
