BEGIN:VCALENDAR
PRODID:-//eluceo/ical//2.0/EN
VERSION:2.0
CALSCALE:GREGORIAN
BEGIN:VEVENT
UID:7809813d3ef3bb4f44cae0a1f7d5def7
DTSTAMP:20260422T203915Z
SUMMARY:[Frauen Landesliga 2014/15] CVJM Kirchentellinsfurt  - SG Grunbach 
 Winterbach 
URL:https://www.eichenkreuzliga.de/handball/game/id/1528
DTSTART:20150201T173000
DTEND:20150201T183000
LOCATION:Sporthalle\, 72138 Kirchentellinsfurt
END:VEVENT
BEGIN:VEVENT
UID:67180be16dfcfb7dd93bbe1d49b27b29
DTSTAMP:20260422T203915Z
SUMMARY:[männliche C-Jugend LK 2 2014/15] CVJM Kirchentellinsfurt  - EJW M
 ünchingen 
URL:https://www.eichenkreuzliga.de/handball/game/id/2181
DTSTART:20150201T143000
DTEND:20150201T153000
LOCATION:Sporthalle\, 72138 Kirchentellinsfurt
END:VEVENT
BEGIN:VEVENT
UID:69dcc840c7803469c201fbd1300f98e6
DTSTAMP:20260422T203915Z
SUMMARY:[weibliche C-Jugend Vorrunde 2014/15] CVJM Kirchentellinsfurt  - CV
 JM HB Dußlingen-Gomaringen 1
URL:https://www.eichenkreuzliga.de/handball/game/id/2262
DTSTART:20150201T130000
DTEND:20150201T140000
LOCATION:Sporthalle\, 72138 Kirchentellinsfurt
END:VEVENT
BEGIN:VEVENT
UID:e9c966b920fbabec8e8afa1acfd4aa95
DTSTAMP:20260422T203915Z
SUMMARY:[Männer LK 4 2014/15] CVJM Kirchentellinsfurt 1b - CVJM Möglingen
  1c
URL:https://www.eichenkreuzliga.de/handball/game/id/2346
DTSTART:20150201T160000
DTEND:20150201T170000
LOCATION:Sporthalle\, 72138 Kirchentellinsfurt
END:VEVENT
END:VCALENDAR
