BEGIN:VCALENDAR
PRODID:-//eluceo/ical//2.0/EN
VERSION:2.0
CALSCALE:GREGORIAN
BEGIN:VEVENT
UID:06b698843ad95ac54c4e2b3bb66bfea3
DTSTAMP:20260422T161553Z
SUMMARY:[Frauen Landesliga 2014/15] CVJM HB Dußlingen-Gomaringen  - EK Ber
 nhausen 
URL:https://www.eichenkreuzliga.de/handball/game/id/1529
DTSTART:20150207T170000
DTEND:20150207T180000
LOCATION:Hönisch Sporthalle\, 72144 Dusslingen
END:VEVENT
BEGIN:VEVENT
UID:3ed7f8e507b21c1b9f8b77ae659bce28
DTSTAMP:20260422T161553Z
SUMMARY:[männliche D-Jugend LK 2 2014/15] CVJM HB Dußlingen-Gomaringen 1 
 - CVJM Flacht AK
URL:https://www.eichenkreuzliga.de/handball/game/id/1613
DTSTART:20150207T123000
DTEND:20150207T133000
LOCATION:Hönisch Sporthalle\, 72144 Dusslingen
END:VEVENT
BEGIN:VEVENT
UID:36f69b2b7a3adda3227cae82a8ad5e6c
DTSTAMP:20260422T161553Z
SUMMARY:[männliche D-Jugend LK 2 2014/15] CVJM Hagelloch  - SG Mössingen/
 Belsen 
URL:https://www.eichenkreuzliga.de/handball/game/id/1614
DTSTART:20150207T131000
DTEND:20150207T141000
LOCATION:Hönisch Sporthalle\, 72144 Dusslingen
END:VEVENT
BEGIN:VEVENT
UID:a042353ffdded16045d9bc6a102aeb4e
DTSTAMP:20260422T161553Z
SUMMARY:[männliche D-Jugend LK 2 2014/15] CVJM Flacht AK - CVJM Untertürk
 heim 
URL:https://www.eichenkreuzliga.de/handball/game/id/1616
DTSTART:20150207T140000
DTEND:20150207T150000
LOCATION:Hönisch Sporthalle\, 72144 Dusslingen
END:VEVENT
BEGIN:VEVENT
UID:4f672ad892d0c881a9612e7a2532441c
DTSTAMP:20260422T161553Z
SUMMARY:[männliche D-Jugend LK 2 2014/15] CVJM Hagelloch  - EK Höfingen 
URL:https://www.eichenkreuzliga.de/handball/game/id/1617
DTSTART:20150207T144000
DTEND:20150207T154000
LOCATION:Hönisch Sporthalle\, 72144 Dusslingen
END:VEVENT
BEGIN:VEVENT
UID:896deb81ac985eff3561c4f6732d8478
DTSTAMP:20260422T161553Z
SUMMARY:[männliche B-Jugend LK 1 2014/15] CVJM HB Dußlingen-Gomaringen  -
  SG Kusterdingen/Kirchentellinsfurt 
URL:https://www.eichenkreuzliga.de/handball/game/id/2147
DTSTART:20150207T183000
DTEND:20150207T193000
LOCATION:Hönisch Sporthalle\, 72144 Dusslingen
END:VEVENT
BEGIN:VEVENT
UID:c6fc0625c3329d851d8ee9c04e3de23b
DTSTAMP:20260422T161553Z
SUMMARY:[ ]   -  
URL:https://www.eichenkreuzliga.de/handball/game/id/2240
DTSTART:20150207T134500
DTEND:20150207T144500
LOCATION:Hönisch Sporthalle\, 72144 Dusslingen
END:VEVENT
BEGIN:VEVENT
UID:740c8ea8ba43c178b3ed277a1236afc6
DTSTAMP:20260422T161553Z
SUMMARY:[weibliche C-Jugend Vorrunde 2014/15] CVJM HB Dußlingen-Gomaringen
  1 - CVJM  Walddorfhäslach 
URL:https://www.eichenkreuzliga.de/handball/game/id/2241
DTSTART:20150207T153000
DTEND:20150207T163000
LOCATION:Hönisch Sporthalle\, 72144 Dusslingen
END:VEVENT
END:VCALENDAR
