BEGIN:VCALENDAR
PRODID:-//eluceo/ical//2.0/EN
VERSION:2.0
CALSCALE:GREGORIAN
BEGIN:VEVENT
UID:7dff2111ebfd44ab7604d15043fc3d42
DTSTAMP:20260422T191639Z
SUMMARY:[Männer Landesliga 2014/15] EK Höfingen  - EK Bernhausen 
URL:https://www.eichenkreuzliga.de/handball/game/id/1735
DTSTART:20150207T190000
DTEND:20150207T200000
LOCATION:Strohgäuhalle\, 71229 Höfingen
END:VEVENT
BEGIN:VEVENT
UID:81965103ca5af173960fa70ed7ba8bcc
DTSTAMP:20260422T191639Z
SUMMARY:[weibliche C-Jugend Vorrunde 2014/15] EK Höfingen  - CVJM Mögling
 en 
URL:https://www.eichenkreuzliga.de/handball/game/id/2258
DTSTART:20150207T154500
DTEND:20150207T164500
LOCATION:Strohgäuhalle\, 71229 Höfingen
END:VEVENT
BEGIN:VEVENT
UID:ac86803b97202cf0d47833de455eae74
DTSTAMP:20260422T191639Z
SUMMARY:[Männer LK 4 2014/15] EK Höfingen 1b - CVJM Kusterdingen e.V. 
URL:https://www.eichenkreuzliga.de/handball/game/id/2303
DTSTART:20150207T160000
DTEND:20150207T170000
LOCATION:Strohgäuhalle\, 71229 Höfingen
END:VEVENT
END:VCALENDAR
