BEGIN:VCALENDAR
PRODID:-//eluceo/ical//2.0/EN
VERSION:2.0
CALSCALE:GREGORIAN
BEGIN:VEVENT
UID:255623ff4e78791aa3cab3cd20c4b3a0
DTSTAMP:20260422T191640Z
SUMMARY:[weibliche D-Jugend Vorrunde 2014/15] CVJM Kirchentellinsfurt  - CV
 JM HB Dußlingen-Gomaringen 1
URL:https://www.eichenkreuzliga.de/handball/game/id/1924
DTSTART:20150208T130000
DTEND:20150208T140000
LOCATION:Sporthalle\, 72138 Kirchentellinsfurt
END:VEVENT
BEGIN:VEVENT
UID:0e9686f621288cd07655a874afe5239c
DTSTAMP:20260422T191640Z
SUMMARY:[weibliche D-Jugend Vorrunde 2014/15] CVJM Kirchentellinsfurt  - CV
 JM Hülben 
URL:https://www.eichenkreuzliga.de/handball/game/id/1925
DTSTART:20150208T151000
DTEND:20150208T161000
LOCATION:Sporthalle\, 72138 Kirchentellinsfurt
END:VEVENT
BEGIN:VEVENT
UID:85def9afa5f3d0527cc0102427f71aa6
DTSTAMP:20260422T191640Z
SUMMARY:[ ]   -  
URL:https://www.eichenkreuzliga.de/handball/game/id/1926
DTSTART:20150208T141500
DTEND:20150208T151500
LOCATION:Sporthalle\, 72138 Kirchentellinsfurt
END:VEVENT
BEGIN:VEVENT
UID:ecaa98cc3bb30b64a303e3d00879e18d
DTSTAMP:20260422T191640Z
SUMMARY:[weibliche D-Jugend Vorrunde 2014/15] CVJM Hülben  - CVJM Mögling
 en 
URL:https://www.eichenkreuzliga.de/handball/game/id/1927
DTSTART:20150208T134000
DTEND:20150208T144000
LOCATION:Sporthalle\, 72138 Kirchentellinsfurt
END:VEVENT
BEGIN:VEVENT
UID:fe994ac7d7fea1dc6247bacee2cfe0c6
DTSTAMP:20260422T191640Z
SUMMARY:[weibliche D-Jugend Vorrunde 2014/15] CVJM HB Dußlingen-Gomaringen
  1 - CVJM Möglingen 
URL:https://www.eichenkreuzliga.de/handball/game/id/1928
DTSTART:20150208T143000
DTEND:20150208T153000
LOCATION:Sporthalle\, 72138 Kirchentellinsfurt
END:VEVENT
BEGIN:VEVENT
UID:8b998849a16b372074e300e806d510bb
DTSTAMP:20260422T191640Z
SUMMARY:[Männer LK 3 2014/15] CVJM Kirchentellinsfurt  - CVJM  Walddorfhä
 slach 2
URL:https://www.eichenkreuzliga.de/handball/game/id/2235
DTSTART:20150208T174500
DTEND:20150208T184500
LOCATION:Sporthalle\, 72138 Kirchentellinsfurt
END:VEVENT
BEGIN:VEVENT
UID:e3a9163bc75486db80f6387aa964e938
DTSTAMP:20260422T191640Z
SUMMARY:[weibliche C-Jugend Vorrunde 2014/15] CVJM Kirchentellinsfurt  - EK
  Bernhausen 
URL:https://www.eichenkreuzliga.de/handball/game/id/2261
DTSTART:20150208T161000
DTEND:20150208T171000
LOCATION:Sporthalle\, 72138 Kirchentellinsfurt
END:VEVENT
END:VCALENDAR
