BEGIN:VCALENDAR
PRODID:-//eluceo/ical//2.0/EN
VERSION:2.0
CALSCALE:GREGORIAN
BEGIN:VEVENT
UID:cd67430b612e77fc349a896b8b1b1b8e
DTSTAMP:20260422T143103Z
SUMMARY:[männliche B-Jugend LK 1 2014/15] CVJM Möglingen 2 - CVJM Wildber
 g 
URL:https://www.eichenkreuzliga.de/handball/game/id/2129
DTSTART:20150228T170000
DTEND:20150228T180000
LOCATION:Stadionhalle\, 71696 Möglingen
END:VEVENT
BEGIN:VEVENT
UID:9acfbaa3fd8fcb7835e4d4ae87a80bcf
DTSTAMP:20260422T143103Z
SUMMARY:[männliche B-Jugend LK 1 2014/15] CVJM Möglingen 1 - CVJM HB Duß
 lingen-Gomaringen 
URL:https://www.eichenkreuzliga.de/handball/game/id/2130
DTSTART:20150228T153000
DTEND:20150228T163000
LOCATION:Stadionhalle\, 71696 Möglingen
END:VEVENT
BEGIN:VEVENT
UID:7d01e96cecec0b36ff7a36e915c0fb30
DTSTAMP:20260422T143103Z
SUMMARY:[weibliche C-Jugend Vorrunde 2014/15] CVJM Möglingen  - CVJM Kirch
 entellinsfurt 
URL:https://www.eichenkreuzliga.de/handball/game/id/2254
DTSTART:20150228T140000
DTEND:20150228T150000
LOCATION:Stadionhalle\, 71696 Möglingen
END:VEVENT
BEGIN:VEVENT
UID:5813a665a7c37810d8b722d3b746551a
DTSTAMP:20260422T143103Z
SUMMARY:[Männer LK 4 2014/15] CVJM Möglingen 1c - CVJM Fellbach 
URL:https://www.eichenkreuzliga.de/handball/game/id/2300
DTSTART:20150228T183000
DTEND:20150228T193000
LOCATION:Stadionhalle\, 71696 Möglingen
END:VEVENT
END:VCALENDAR
