BEGIN:VCALENDAR
PRODID:-//eluceo/ical//2.0/EN
VERSION:2.0
CALSCALE:GREGORIAN
BEGIN:VEVENT
UID:199354d6e96a9979f708f1691ccb8b1d
DTSTAMP:20260422T192118Z
SUMMARY:[männliche E-Jugend Gruppe 1 2014/15] EK Höfingen  - CVJM Enzweih
 ingen 
URL:https://www.eichenkreuzliga.de/handball/game/id/1699
DTSTART:20150228T130000
DTEND:20150228T140000
LOCATION:Strohgäuhalle\, 71229 Höfingen
END:VEVENT
BEGIN:VEVENT
UID:f424ccca8acfe6e36c2286acd41d2821
DTSTAMP:20260422T192118Z
SUMMARY:[männliche E-Jugend Gruppe 1 2014/15] CVJM Möglingen  - EJW Münc
 hingen 
URL:https://www.eichenkreuzliga.de/handball/game/id/1700
DTSTART:20150228T134000
DTEND:20150228T144000
LOCATION:Strohgäuhalle\, 71229 Höfingen
END:VEVENT
BEGIN:VEVENT
UID:e488ff06b8961d7db41e6b40c92736c8
DTSTAMP:20260422T192118Z
SUMMARY:[männliche E-Jugend Gruppe 1 2014/15] CVJM Enzweihingen  - EK Bern
 hausen 1
URL:https://www.eichenkreuzliga.de/handball/game/id/1701
DTSTART:20150228T142000
DTEND:20150228T152000
LOCATION:Strohgäuhalle\, 71229 Höfingen
END:VEVENT
BEGIN:VEVENT
UID:b9065ee9db242f597e53a26161f33ade
DTSTAMP:20260422T192118Z
SUMMARY:[ ]   -  
URL:https://www.eichenkreuzliga.de/handball/game/id/1702
DTSTART:20150228T145500
DTEND:20150228T155500
LOCATION:Strohgäuhalle\, 71229 Höfingen
END:VEVENT
BEGIN:VEVENT
UID:d8e263d8fc4b7e441466b012e1fa580d
DTSTAMP:20260422T192118Z
SUMMARY:[männliche E-Jugend Gruppe 1 2014/15] EJW Münchingen  - EK Könge
 n 
URL:https://www.eichenkreuzliga.de/handball/game/id/1703
DTSTART:20150228T151000
DTEND:20150228T161000
LOCATION:Strohgäuhalle\, 71229 Höfingen
END:VEVENT
BEGIN:VEVENT
UID:2589e7735b5e5c9662de5696744b6f00
DTSTAMP:20260422T192118Z
SUMMARY:[männliche E-Jugend Gruppe 1 2014/15] EK Bernhausen 1 - CVJM Mögl
 ingen 
URL:https://www.eichenkreuzliga.de/handball/game/id/1704
DTSTART:20150228T155000
DTEND:20150228T165000
LOCATION:Strohgäuhalle\, 71229 Höfingen
END:VEVENT
BEGIN:VEVENT
UID:849d48ccaad6425498ab6be6ba0119c2
DTSTAMP:20260422T192118Z
SUMMARY:[männliche E-Jugend Gruppe 1 2014/15] EK Köngen  - EK Höfingen 
URL:https://www.eichenkreuzliga.de/handball/game/id/1705
DTSTART:20150228T163000
DTEND:20150228T173000
LOCATION:Strohgäuhalle\, 71229 Höfingen
END:VEVENT
BEGIN:VEVENT
UID:c08a9b0708d5309862f10743aefd5e42
DTSTAMP:20260422T192118Z
SUMMARY:[Männer Landesliga 2014/15] EK Höfingen  - CVJM  Walddorfhäslach
  
URL:https://www.eichenkreuzliga.de/handball/game/id/1742
DTSTART:20150228T193000
DTEND:20150228T203000
LOCATION:Strohgäuhalle\, 71229 Höfingen
END:VEVENT
BEGIN:VEVENT
UID:55041bcd19871e3e5a4a6cd224bbcad8
DTSTAMP:20260422T192118Z
SUMMARY:[weibliche C-Jugend Vorrunde 2014/15] EK Höfingen  - CVJM  Walddor
 fhäslach 
URL:https://www.eichenkreuzliga.de/handball/game/id/2252
DTSTART:20150228T173000
DTEND:20150228T183000
LOCATION:Strohgäuhalle\, 71229 Höfingen
END:VEVENT
END:VCALENDAR
