BEGIN:VCALENDAR
PRODID:-//eluceo/ical//2.0/EN
VERSION:2.0
CALSCALE:GREGORIAN
BEGIN:VEVENT
UID:82a624332972ba99a1954b3519f5c1d7
DTSTAMP:20260422T191552Z
SUMMARY:[Frauen Landesliga 2014/15] CVJM HB Dußlingen-Gomaringen  - CVJM K
 irchentellinsfurt 
URL:https://www.eichenkreuzliga.de/handball/game/id/1530
DTSTART:20150301T153000
DTEND:20150301T163000
LOCATION:Hönisch Sporthalle\, 72144 Dusslingen
END:VEVENT
BEGIN:VEVENT
UID:48c58c0419a60091adfb7ab3d98491ce
DTSTAMP:20260422T191552Z
SUMMARY:[Männer Landesliga 2014/15] CVJM HB Dußlingen-Gomaringen  - CVJM 
 Enzweihingen 
URL:https://www.eichenkreuzliga.de/handball/game/id/1783
DTSTART:20150301T184500
DTEND:20150301T194500
LOCATION:Hönisch Sporthalle\, 72144 Dusslingen
END:VEVENT
BEGIN:VEVENT
UID:aa8dc33f438ff1f2d74196a6ecd931a8
DTSTAMP:20260422T191552Z
SUMMARY:[Männer LK 3 2014/15] CVJM HB Dußlingen-Gomaringen 1b - SG Grunba
 ch Winterbach 
URL:https://www.eichenkreuzliga.de/handball/game/id/2223
DTSTART:20150301T170000
DTEND:20150301T180000
LOCATION:Hönisch Sporthalle\, 72144 Dusslingen
END:VEVENT
BEGIN:VEVENT
UID:d5faa365d23a24ff4f7ee0eaa503f226
DTSTAMP:20260422T191552Z
SUMMARY:[weibliche C-Jugend Vorrunde 2014/15] CVJM HB Dußlingen-Gomaringen
  1 - EK Bernhausen 
URL:https://www.eichenkreuzliga.de/handball/game/id/2243
DTSTART:20150301T140000
DTEND:20150301T150000
LOCATION:Hönisch Sporthalle\, 72144 Dusslingen
END:VEVENT
END:VCALENDAR
