BEGIN:VCALENDAR
PRODID:-//eluceo/ical//2.0/EN
VERSION:2.0
CALSCALE:GREGORIAN
BEGIN:VEVENT
UID:a0ce98bad4303b1a532521d5a65dcc74
DTSTAMP:20260422T191619Z
SUMMARY:[Männer Landesliga 2014/15] CVJM  Walddorfhäslach  - EK Köngen 
URL:https://www.eichenkreuzliga.de/handball/game/id/1775
DTSTART:20150307T193000
DTEND:20150307T203000
LOCATION:Ballspielhalle\, 72141 Walddorfhäslach
END:VEVENT
BEGIN:VEVENT
UID:401d1da8442f44a5720330d3d68fc2d0
DTSTAMP:20260422T191619Z
SUMMARY:[Männer LK 3 2014/15] CVJM  Walddorfhäslach 2 - SG Grunbach Winte
 rbach 
URL:https://www.eichenkreuzliga.de/handball/game/id/2237
DTSTART:20150307T174500
DTEND:20150307T184500
LOCATION:Ballspielhalle\, 72141 Walddorfhäslach
END:VEVENT
BEGIN:VEVENT
UID:8e65556dda876e6bfeaba85b175334e2
DTSTAMP:20260422T191619Z
SUMMARY:[weibliche C-Jugend Vorrunde 2014/15] CVJM Möglingen  - CVJM  Wald
 dorfhäslach 
URL:https://www.eichenkreuzliga.de/handball/game/id/2251
DTSTART:20150307T161500
DTEND:20150307T171500
LOCATION:Ballspielhalle\, 72141 Walddorfhäslach
END:VEVENT
END:VCALENDAR
