BEGIN:VCALENDAR
PRODID:-//eluceo/ical//2.0/EN
VERSION:2.0
CALSCALE:GREGORIAN
BEGIN:VEVENT
UID:4f0e46612ffcbe56e5a1b0729741cfbb
DTSTAMP:20260422T191618Z
SUMMARY:[Männer LK 4 2014/15] CVJM Kirchentellinsfurt 1b - CVJM SG Mössin
 gen/Belsen 1c
URL:https://www.eichenkreuzliga.de/handball/game/id/2351
DTSTART:20150308T154500
DTEND:20150308T164500
LOCATION:Sporthalle\, 72138 Kirchentellinsfurt
END:VEVENT
END:VCALENDAR
