BEGIN:VCALENDAR
PRODID:-//eluceo/ical//2.0/EN
VERSION:2.0
CALSCALE:GREGORIAN
BEGIN:VEVENT
UID:b8431dea7a4658bbaaca6c3b68f20825
DTSTAMP:20260422T191618Z
SUMMARY:[Frauen Landesliga 2014/15] EK Bernhausen  - CVJM HB Dußlingen-Gom
 aringen 
URL:https://www.eichenkreuzliga.de/handball/game/id/1534
DTSTART:20150321T180000
DTEND:20150321T190000
LOCATION:Elisabeth-Selbert-Gymnasium Halle\, 70794 Bernhausen
END:VEVENT
BEGIN:VEVENT
UID:30824c8b12161717159e95d07ea79874
DTSTAMP:20260422T191618Z
SUMMARY:[weibliche A-Jugend Vorrunde 2014/15] EK Bernhausen  - CVJM Hülben
  
URL:https://www.eichenkreuzliga.de/handball/game/id/2039
DTSTART:20150321T141500
DTEND:20150321T151500
LOCATION:Elisabeth-Selbert-Gymnasium Halle\, 70794 Bernhausen
END:VEVENT
BEGIN:VEVENT
UID:aa341a72b3838e4b22a4e6c596c1f863
DTSTAMP:20260422T191618Z
SUMMARY:[Männer LK 3 2014/15] SG Bonlanden Bernhausen 1c - EK Wolfschlugen
  
URL:https://www.eichenkreuzliga.de/handball/game/id/2215
DTSTART:20150321T193000
DTEND:20150321T203000
LOCATION:Elisabeth-Selbert-Gymnasium Halle\, 70794 Bernhausen
END:VEVENT
BEGIN:VEVENT
UID:c01ba81ad8d0a6f7ca697af21be3a7bd
DTSTAMP:20260422T191618Z
SUMMARY:[weibliche C-Jugend Vorrunde 2014/15] EK Bernhausen  - CVJM HB Duß
 lingen-Gomaringen 1
URL:https://www.eichenkreuzliga.de/handball/game/id/2246
DTSTART:20150321T130000
DTEND:20150321T140000
LOCATION:Elisabeth-Selbert-Gymnasium Halle\, 70794 Bernhausen
END:VEVENT
BEGIN:VEVENT
UID:aa2d33f4a0f9aa075bdb47a11778d79b
DTSTAMP:20260422T191618Z
SUMMARY:[männliche B-Jugend Finalrunde 2014/15] SG Kusterdingen/Kirchentel
 linsfurt  - EK Bernhausen 
URL:https://www.eichenkreuzliga.de/handball/game/id/2551
DTSTART:20150321T150000
DTEND:20150321T160000
LOCATION:Elisabeth-Selbert-Gymnasium Halle\, 70794 Bernhausen
END:VEVENT
BEGIN:VEVENT
UID:442826eb5ef45af11109938121b46b56
DTSTAMP:20260422T191618Z
SUMMARY:[männliche B-Jugend Finalrunde 2014/15] CVJM  Walddorfhäslach  - 
 CVJM Möglingen 1
URL:https://www.eichenkreuzliga.de/handball/game/id/2552
DTSTART:20150321T163000
DTEND:20150321T173000
LOCATION:Elisabeth-Selbert-Gymnasium Halle\, 70794 Bernhausen
END:VEVENT
END:VCALENDAR
