BEGIN:VCALENDAR
PRODID:-//eluceo/ical//2.0/EN
VERSION:2.0
CALSCALE:GREGORIAN
BEGIN:VEVENT
UID:4ac50fc43f301e09e5ab5148b1c7b7e8
DTSTAMP:20260422T191639Z
SUMMARY:[Männer Landesliga 2014/15] CVJM Möglingen  - EK Bernhausen 
URL:https://www.eichenkreuzliga.de/handball/game/id/1747
DTSTART:20150321T193000
DTEND:20150321T203000
LOCATION:Stadionhalle\, 71696 Möglingen
END:VEVENT
BEGIN:VEVENT
UID:603d5bbe00592278c5ec57f0d548b79d
DTSTAMP:20260422T191639Z
SUMMARY:[Männer LK 2 2014/15] CVJM Möglingen 1b - EK Bernhausen / Bonland
 en
URL:https://www.eichenkreuzliga.de/handball/game/id/1985
DTSTART:20150321T174500
DTEND:20150321T184500
LOCATION:Stadionhalle\, 71696 Möglingen
END:VEVENT
BEGIN:VEVENT
UID:b12fb21278e758421819218a5f66e756
DTSTAMP:20260422T191639Z
SUMMARY:[weibliche C-Jugend Vorrunde 2014/15] CVJM Möglingen  - EK Höfing
 en 
URL:https://www.eichenkreuzliga.de/handball/game/id/2245
DTSTART:20150321T143000
DTEND:20150321T153000
LOCATION:Stadionhalle\, 71696 Möglingen
END:VEVENT
BEGIN:VEVENT
UID:5cb8787e66f857447b7db3cb7fe07700
DTSTAMP:20260422T191639Z
SUMMARY:[Männer LK 4 2014/15] CVJM Möglingen 1c - CVJM Hülben 
URL:https://www.eichenkreuzliga.de/handball/game/id/2298
DTSTART:20150321T160000
DTEND:20150321T170000
LOCATION:Stadionhalle\, 71696 Möglingen
END:VEVENT
END:VCALENDAR
