BEGIN:VCALENDAR
PRODID:-//eluceo/ical//2.0/EN
VERSION:2.0
CALSCALE:GREGORIAN
BEGIN:VEVENT
UID:272f7a817b84d8b2ad3da094686dd3bb
DTSTAMP:20260422T221936Z
SUMMARY:[Männer LK 4 2014/15] CVJM Kusterdingen e.V.  - CVJM Wildberg 
URL:https://www.eichenkreuzliga.de/handball/game/id/2349
DTSTART:20150322T160000
DTEND:20150322T170000
LOCATION:Härtensporthalle\, 72127 Kusterdingen
END:VEVENT
BEGIN:VEVENT
UID:16e8a1567fda21086233f10eaa32b36b
DTSTAMP:20260422T221936Z
SUMMARY:[männliche D-Jugend Platzierungspiele 2014/15] CVJM Kusterdingen  
 - CVJM  Walddorfhäslach 
URL:https://www.eichenkreuzliga.de/handball/game/id/2585
DTSTART:20150322T143000
DTEND:20150322T153000
LOCATION:Härtensporthalle\, 72127 Kusterdingen
END:VEVENT
END:VCALENDAR
