BEGIN:VCALENDAR
PRODID:-//eluceo/ical//2.0/EN
VERSION:2.0
CALSCALE:GREGORIAN
BEGIN:VEVENT
UID:edb136c26323880547075833cff8ab8b
DTSTAMP:20260422T221623Z
SUMMARY:[Männer LK 4 2014/15] CVJM Enzweihingen 1b - CVJM Kusterdingen e.V
 . 
URL:https://www.eichenkreuzliga.de/handball/game/id/2315
DTSTART:20150328T180000
DTEND:20150328T190000
LOCATION:Schulsporthalle\, 71665 Enzweihingen
END:VEVENT
END:VCALENDAR
